BEGIN:VCALENDAR
VERSION:2.0
PRODID:icalendar-ruby
CALSCALE:GREGORIAN
METHOD:PUBLISH
BEGIN:VEVENT
DTSTAMP:20260420T134408Z
UID:6e8daec5-c29d-4fe9-943e-b5a4e249731e
DTSTART:20250726T140000
DTEND:20250727T120000
DESCRIPTION:<p><span>Monegros Desert Festival 2025 - Sign Up</span></p><p><
 br></p>
LOCATION:NACIONAL II\, KM416\, FRAGA\, HUESCA\, 22520
SUMMARY:Monegros Desert Festival 2025 - Sign Up
URL;VALUE=URI:https://monegrosfestival.howler.co.za/mdf25SU
END:VEVENT
END:VCALENDAR
